BEGIN:VCALENDAR
VERSION:2.0
PRODID:spatie/icalendar-generator
NAME:Best Practices in Not-for-Profit Accounting and Reporting (8:30am-12:0
 0pm) (BPN4)
X-WR-CALNAME:Best Practices in Not-for-Profit Accounting and Reporting (8:3
 0am-12:00pm) (BPN4)
BEGIN:VTIMEZONE
TZID:America/Chicago
BEGIN:STANDARD
DTSTART:20251102T010000
TZOFFSETFROM:-0500
TZOFFSETTO:-0600
END:STANDARD
BEGIN:DAYLIGHT
DTSTART:20260308T010000
TZOFFSETFROM:-0600
TZOFFSETTO:-0500
END:DAYLIGHT
BEGIN:STANDARD
DTSTART:20261101T010000
TZOFFSETFROM:-0500
TZOFFSETTO:-0600
END:STANDARD
END:VTIMEZONE
BEGIN:VTIMEZONE
TZID:UTC
BEGIN:STANDARD
DTSTART:20250726T190525
TZOFFSETFROM:+0000
TZOFFSETTO:+0000
END:STANDARD
END:VTIMEZONE
BEGIN:VEVENT
UID:69e91bf54bb9a
DTSTAMP:20260422T190525Z
SUMMARY:Best Practices in Not-for-Profit Accounting and Reporting (8:30am-1
 2:00pm) (BPN4)
URL:https://arcpa.org/catalog/events/2162319-best-practices-in-not-for-prof
 it-accounting-and-reporting-830am-1200pm-bpn4-2026-28-07
DTSTART;TZID=America/Chicago:20260728T083000
DTEND;TZID=America/Chicago:20260728T120000
END:VEVENT
END:VCALENDAR