BEGIN:VCALENDAR
VERSION:2.0
PRODID:spatie/icalendar-generator
NAME:Guide to Payroll Taxes and 1099 Issues (8:30am-12:00pm) (GPT4)
X-WR-CALNAME:Guide to Payroll Taxes and 1099 Issues (8:30am-12:00pm) (GPT4)
BEGIN:VTIMEZONE
TZID:America/Chicago
BEGIN:STANDARD
DTSTART:20251102T010000
TZOFFSETFROM:-0500
TZOFFSETTO:-0600
END:STANDARD
BEGIN:DAYLIGHT
DTSTART:20260308T010000
TZOFFSETFROM:-0600
TZOFFSETTO:-0500
END:DAYLIGHT
BEGIN:STANDARD
DTSTART:20261101T010000
TZOFFSETFROM:-0500
TZOFFSETTO:-0600
END:STANDARD
END:VTIMEZONE
BEGIN:VTIMEZONE
TZID:UTC
BEGIN:STANDARD
DTSTART:20250726T190146
TZOFFSETFROM:+0000
TZOFFSETTO:+0000
END:STANDARD
END:VTIMEZONE
BEGIN:VEVENT
UID:69e91b1a49c6e
DTSTAMP:20260422T190146Z
SUMMARY:Guide to Payroll Taxes and 1099 Issues (8:30am-12:00pm) (GPT4)
URL:https://arcpa.org/catalog/events/2162315-guide-to-payroll-taxes-and-109
 9-issues-830am-1200pm-gpt4-2026-29-07
DTSTART;TZID=America/Chicago:20260729T083000
DTEND;TZID=America/Chicago:20260729T120000
END:VEVENT
END:VCALENDAR