BEGIN:VCALENDAR
VERSION:2.0
PRODID:spatie/icalendar-generator
NAME:Annual Update and Practice Issues for Preparation\, Compilation\, and 
 Review Engagements (CORU)
X-WR-CALNAME:Annual Update and Practice Issues for Preparation\, Compilatio
 n\, and Review Engagements (CORU)
BEGIN:VTIMEZONE
TZID:America/Chicago
BEGIN:STANDARD
DTSTART:20251102T010000
TZOFFSETFROM:-0500
TZOFFSETTO:-0600
END:STANDARD
BEGIN:DAYLIGHT
DTSTART:20260308T010000
TZOFFSETFROM:-0600
TZOFFSETTO:-0500
END:DAYLIGHT
BEGIN:STANDARD
DTSTART:20261101T010000
TZOFFSETFROM:-0500
TZOFFSETTO:-0600
END:STANDARD
END:VTIMEZONE
BEGIN:VTIMEZONE
TZID:UTC
BEGIN:STANDARD
DTSTART:20250726T190114
TZOFFSETFROM:+0000
TZOFFSETTO:+0000
END:STANDARD
END:VTIMEZONE
BEGIN:VEVENT
UID:69e91afae6e06
DTSTAMP:20260422T190114Z
SUMMARY:Annual Update and Practice Issues for Preparation\, Compilation\, a
 nd Review Engagements (CORU)
URL:https://arcpa.org/catalog/events/2162304-annual-update-and-practice-iss
 ues-for-preparation-compilation-and-review-engagements-coru-2026-27-07
DTSTART;TZID=America/Chicago:20260727T083000
DTEND;TZID=America/Chicago:20260727T160000
END:VEVENT
END:VCALENDAR