BEGIN:VCALENDAR
VERSION:2.0
PRODID:spatie/icalendar-generator
NAME:Construction Contractors: Critical Accounting\, Auditing\, and Tax Iss
 ues (CONS)
X-WR-CALNAME:Construction Contractors: Critical Accounting\, Auditing\, and
  Tax Issues (CONS)
BEGIN:VTIMEZONE
TZID:America/Chicago
BEGIN:STANDARD
DTSTART:20251102T010000
TZOFFSETFROM:-0500
TZOFFSETTO:-0600
END:STANDARD
BEGIN:DAYLIGHT
DTSTART:20260308T010000
TZOFFSETFROM:-0600
TZOFFSETTO:-0500
END:DAYLIGHT
BEGIN:STANDARD
DTSTART:20261101T010000
TZOFFSETFROM:-0500
TZOFFSETTO:-0600
END:STANDARD
END:VTIMEZONE
BEGIN:VTIMEZONE
TZID:UTC
BEGIN:STANDARD
DTSTART:20250726T190141
TZOFFSETFROM:+0000
TZOFFSETTO:+0000
END:STANDARD
END:VTIMEZONE
BEGIN:VEVENT
UID:69e91b15519ec
DTSTAMP:20260422T190141Z
SUMMARY:Construction Contractors: Critical Accounting\, Auditing\, and Tax 
 Issues (CONS)
URL:https://arcpa.org/catalog/events/2162299-construction-contractors-criti
 cal-accounting-auditing-and-tax-issues-cons-2026-25-06
DTSTART;TZID=America/Chicago:20260625T083000
DTEND;TZID=America/Chicago:20260625T160000
END:VEVENT
END:VCALENDAR