BEGIN:VCALENDAR
VERSION:2.0
PRODID:spatie/icalendar-generator
NAME:Ethical Considerations for CPAs (ETH4)
X-WR-CALNAME:Ethical Considerations for CPAs (ETH4)
BEGIN:VTIMEZONE
TZID:America/Chicago
BEGIN:STANDARD
DTSTART:20251102T010000
TZOFFSETFROM:-0500
TZOFFSETTO:-0600
END:STANDARD
BEGIN:DAYLIGHT
DTSTART:20260308T010000
TZOFFSETFROM:-0600
TZOFFSETTO:-0500
END:DAYLIGHT
BEGIN:STANDARD
DTSTART:20261101T010000
TZOFFSETFROM:-0500
TZOFFSETTO:-0600
END:STANDARD
END:VTIMEZONE
BEGIN:VTIMEZONE
TZID:UTC
BEGIN:STANDARD
DTSTART:20250726T185711
TZOFFSETFROM:+0000
TZOFFSETTO:+0000
END:STANDARD
END:VTIMEZONE
BEGIN:VEVENT
UID:69e91a07b9a08
DTSTAMP:20260422T185711Z
SUMMARY:Ethical Considerations for CPAs (ETH4)
URL:https://arcpa.org/catalog/events/2162298-ethical-considerations-for-cpa
 s-eth4-2026-24-06
DTSTART;TZID=America/Chicago:20260624T123000
DTEND;TZID=America/Chicago:20260624T160000
END:VEVENT
END:VCALENDAR