BEGIN:VCALENDAR
VERSION:2.0
PRODID:spatie/icalendar-generator
NAME:Non-GAAP Financial Statement Options: Cash\, Modified Cash\, and Tax B
 asis (8:30am-12:00pm) (CMT)
X-WR-CALNAME:Non-GAAP Financial Statement Options: Cash\, Modified Cash\, a
 nd Tax Basis (8:30am-12:00pm) (CMT)
BEGIN:VTIMEZONE
TZID:America/Chicago
BEGIN:STANDARD
DTSTART:20251102T010000
TZOFFSETFROM:-0500
TZOFFSETTO:-0600
END:STANDARD
BEGIN:DAYLIGHT
DTSTART:20260308T010000
TZOFFSETFROM:-0600
TZOFFSETTO:-0500
END:DAYLIGHT
BEGIN:STANDARD
DTSTART:20261101T010000
TZOFFSETFROM:-0500
TZOFFSETTO:-0600
END:STANDARD
END:VTIMEZONE
BEGIN:VTIMEZONE
TZID:UTC
BEGIN:STANDARD
DTSTART:20250726T190525
TZOFFSETFROM:+0000
TZOFFSETTO:+0000
END:STANDARD
END:VTIMEZONE
BEGIN:VEVENT
UID:69e91bf592f6f
DTSTAMP:20260422T190525Z
SUMMARY:Non-GAAP Financial Statement Options: Cash\, Modified Cash\, and Ta
 x Basis (8:30am-12:00pm) (CMT)
URL:https://arcpa.org/catalog/events/2162297-non-gaap-financial-statement-o
 ptions-cash-modified-cash-and-tax-basis-830am-1200pm-cmt-2026-24-06
DTSTART;TZID=America/Chicago:20260624T083000
DTEND;TZID=America/Chicago:20260624T120000
END:VEVENT
END:VCALENDAR