BEGIN:VCALENDAR
VERSION:2.0
PRODID:spatie/icalendar-generator
NAME:Forensic Accounting: Fraud Investigations (FAFI)
X-WR-CALNAME:Forensic Accounting: Fraud Investigations (FAFI)
BEGIN:VTIMEZONE
TZID:America/Chicago
BEGIN:STANDARD
DTSTART:20251102T010000
TZOFFSETFROM:-0500
TZOFFSETTO:-0600
END:STANDARD
BEGIN:DAYLIGHT
DTSTART:20260308T010000
TZOFFSETFROM:-0600
TZOFFSETTO:-0500
END:DAYLIGHT
BEGIN:STANDARD
DTSTART:20261101T010000
TZOFFSETFROM:-0500
TZOFFSETTO:-0600
END:STANDARD
END:VTIMEZONE
BEGIN:VTIMEZONE
TZID:UTC
BEGIN:STANDARD
DTSTART:20250726T190018
TZOFFSETFROM:+0000
TZOFFSETTO:+0000
END:STANDARD
END:VTIMEZONE
BEGIN:VEVENT
UID:69e91ac2d1ca3
DTSTAMP:20260422T190018Z
SUMMARY:Forensic Accounting: Fraud Investigations (FAFI)
URL:https://arcpa.org/catalog/events/2162296-forensic-accounting-fraud-inve
 stigations-fafi-2026-23-06
DTSTART;TZID=America/Chicago:20260623T083000
DTEND;TZID=America/Chicago:20260623T160000
END:VEVENT
END:VCALENDAR