BEGIN:VCALENDAR
VERSION:2.0
PRODID:spatie/icalendar-generator
NAME:AHI: Accounting Data Analytics
X-WR-CALNAME:AHI: Accounting Data Analytics
BEGIN:VTIMEZONE
TZID:America/Chicago
BEGIN:DAYLIGHT
DTSTART:20260308T010000
TZOFFSETFROM:-0600
TZOFFSETTO:-0500
END:DAYLIGHT
BEGIN:STANDARD
DTSTART:20261101T010000
TZOFFSETFROM:-0500
TZOFFSETTO:-0600
END:STANDARD
BEGIN:DAYLIGHT
DTSTART:20270314T010000
TZOFFSETFROM:-0600
TZOFFSETTO:-0500
END:DAYLIGHT
END:VTIMEZONE
BEGIN:VTIMEZONE
TZID:UTC
BEGIN:STANDARD
DTSTART:20250727T222323
TZOFFSETFROM:+0000
TZOFFSETTO:+0000
END:STANDARD
END:VTIMEZONE
BEGIN:VEVENT
UID:69ea9bdb96b04
DTSTAMP:20260423T222323Z
SUMMARY:AHI: Accounting Data Analytics
URL:https://arcpa.org/catalog/events/2091678-ahi-accounting-data-analytics-
 2026-29-09
DTSTART;TZID=America/Chicago:20260929T123000
DTEND;TZID=America/Chicago:20260929T141000
END:VEVENT
END:VCALENDAR