BEGIN:VCALENDAR
VERSION:2.0
PRODID:spatie/icalendar-generator
NAME:AHI: Accounting Data Analytics
X-WR-CALNAME:AHI: Accounting Data Analytics
BEGIN:VTIMEZONE
TZID:America/Chicago
BEGIN:STANDARD
DTSTART:20251102T010000
TZOFFSETFROM:-0500
TZOFFSETTO:-0600
END:STANDARD
BEGIN:DAYLIGHT
DTSTART:20260308T010000
TZOFFSETFROM:-0600
TZOFFSETTO:-0500
END:DAYLIGHT
BEGIN:STANDARD
DTSTART:20261101T010000
TZOFFSETFROM:-0500
TZOFFSETTO:-0600
END:STANDARD
END:VTIMEZONE
BEGIN:VTIMEZONE
TZID:UTC
BEGIN:STANDARD
DTSTART:20250727T133048
TZOFFSETFROM:+0000
TZOFFSETTO:+0000
END:STANDARD
END:VTIMEZONE
BEGIN:VEVENT
UID:69ea1f0865106
DTSTAMP:20260423T133048Z
SUMMARY:AHI: Accounting Data Analytics
URL:https://arcpa.org/catalog/events/2091663-ahi-accounting-data-analytics-
 2026-30-06
DTSTART;TZID=America/Chicago:20260630T123000
DTEND;TZID=America/Chicago:20260630T141000
END:VEVENT
END:VCALENDAR