BEGIN:VCALENDAR
VERSION:2.0
PRODID:spatie/icalendar-generator
NAME:AHI: Advanced Management and Leadership Essentials (Mini Course)
X-WR-CALNAME:AHI: Advanced Management and Leadership Essentials (Mini Cours
 e)
BEGIN:VTIMEZONE
TZID:America/Chicago
BEGIN:STANDARD
DTSTART:20261101T010000
TZOFFSETFROM:-0500
TZOFFSETTO:-0600
END:STANDARD
BEGIN:DAYLIGHT
DTSTART:20270314T010000
TZOFFSETFROM:-0600
TZOFFSETTO:-0500
END:DAYLIGHT
END:VTIMEZONE
BEGIN:VTIMEZONE
TZID:UTC
BEGIN:STANDARD
DTSTART:20250727T222518
TZOFFSETFROM:+0000
TZOFFSETTO:+0000
END:STANDARD
END:VTIMEZONE
BEGIN:VEVENT
UID:69ea9c4ea8e4b
DTSTAMP:20260423T222518Z
SUMMARY:AHI: Advanced Management and Leadership Essentials (Mini Course)
URL:https://arcpa.org/catalog/events/2091661-ahi-advanced-management-and-le
 adership-essentials-mini-course-2026-15-12
DTSTART;TZID=America/Chicago:20261215T150000
DTEND;TZID=America/Chicago:20261215T164000
END:VEVENT
END:VCALENDAR