BEGIN:VCALENDAR
VERSION:2.0
PRODID:spatie/icalendar-generator
NAME:AHI: Advanced Management and Leadership Essentials (Mini Course)
X-WR-CALNAME:AHI: Advanced Management and Leadership Essentials (Mini Cours
 e)
BEGIN:VTIMEZONE
TZID:America/Chicago
BEGIN:STANDARD
DTSTART:20251102T010000
TZOFFSETFROM:-0500
TZOFFSETTO:-0600
END:STANDARD
BEGIN:DAYLIGHT
DTSTART:20260308T010000
TZOFFSETFROM:-0600
TZOFFSETTO:-0500
END:DAYLIGHT
BEGIN:STANDARD
DTSTART:20261101T010000
TZOFFSETFROM:-0500
TZOFFSETTO:-0600
END:STANDARD
END:VTIMEZONE
BEGIN:VTIMEZONE
TZID:UTC
BEGIN:STANDARD
DTSTART:20250727T121019
TZOFFSETFROM:+0000
TZOFFSETTO:+0000
END:STANDARD
END:VTIMEZONE
BEGIN:VEVENT
UID:69ea0c2b6120a
DTSTAMP:20260423T121019Z
SUMMARY:AHI: Advanced Management and Leadership Essentials (Mini Course)
URL:https://arcpa.org/catalog/events/2091644-ahi-advanced-management-and-le
 adership-essentials-mini-course-2026-01-07
DTSTART;TZID=America/Chicago:20260701T150000
DTEND;TZID=America/Chicago:20260701T164000
END:VEVENT
END:VCALENDAR