BEGIN:VCALENDAR
VERSION:2.0
PRODID:spatie/icalendar-generator
NAME:AHI: AI for Accountants - Practical Applications
X-WR-CALNAME:AHI: AI for Accountants - Practical Applications
BEGIN:VTIMEZONE
TZID:America/Chicago
BEGIN:DAYLIGHT
DTSTART:20260308T010000
TZOFFSETFROM:-0600
TZOFFSETTO:-0500
END:DAYLIGHT
BEGIN:STANDARD
DTSTART:20261101T010000
TZOFFSETFROM:-0500
TZOFFSETTO:-0600
END:STANDARD
BEGIN:DAYLIGHT
DTSTART:20270314T010000
TZOFFSETFROM:-0600
TZOFFSETTO:-0500
END:DAYLIGHT
END:VTIMEZONE
BEGIN:VTIMEZONE
TZID:UTC
BEGIN:STANDARD
DTSTART:20250727T144008
TZOFFSETFROM:+0000
TZOFFSETTO:+0000
END:STANDARD
END:VTIMEZONE
BEGIN:VEVENT
UID:69ea2f48e6a9f
DTSTAMP:20260423T144008Z
SUMMARY:AHI: AI for Accountants - Practical Applications
URL:https://arcpa.org/catalog/events/2091624-ahi-ai-for-accountants-practic
 al-applications-2026-27-10
DTSTART;TZID=America/Chicago:20261027T143000
DTEND;TZID=America/Chicago:20261027T161000
END:VEVENT
END:VCALENDAR