BEGIN:VCALENDAR
VERSION:2.0
PRODID:spatie/icalendar-generator
NAME:AHI: AI for Accountants - Practical Applications
X-WR-CALNAME:AHI: AI for Accountants - Practical Applications
BEGIN:VTIMEZONE
TZID:America/Chicago
BEGIN:DAYLIGHT
DTSTART:20260308T010000
TZOFFSETFROM:-0600
TZOFFSETTO:-0500
END:DAYLIGHT
BEGIN:STANDARD
DTSTART:20261101T010000
TZOFFSETFROM:-0500
TZOFFSETTO:-0600
END:STANDARD
BEGIN:DAYLIGHT
DTSTART:20270314T010000
TZOFFSETFROM:-0600
TZOFFSETTO:-0500
END:DAYLIGHT
END:VTIMEZONE
BEGIN:VTIMEZONE
TZID:UTC
BEGIN:STANDARD
DTSTART:20250727T120619
TZOFFSETFROM:+0000
TZOFFSETTO:+0000
END:STANDARD
END:VTIMEZONE
BEGIN:VEVENT
UID:69ea0b3be8849
DTSTAMP:20260423T120619Z
SUMMARY:AHI: AI for Accountants - Practical Applications
URL:https://arcpa.org/catalog/events/2091623-ahi-ai-for-accountants-practic
 al-applications-2026-29-09
DTSTART;TZID=America/Chicago:20260929T143000
DTEND;TZID=America/Chicago:20260929T161000
END:VEVENT
END:VCALENDAR