BEGIN:VCALENDAR
VERSION:2.0
PRODID:spatie/icalendar-generator
NAME:AHI: AI for Accountants - Practical Applications
X-WR-CALNAME:AHI: AI for Accountants - Practical Applications
BEGIN:VTIMEZONE
TZID:America/Chicago
BEGIN:STANDARD
DTSTART:20251102T010000
TZOFFSETFROM:-0500
TZOFFSETTO:-0600
END:STANDARD
BEGIN:DAYLIGHT
DTSTART:20260308T010000
TZOFFSETFROM:-0600
TZOFFSETTO:-0500
END:DAYLIGHT
BEGIN:STANDARD
DTSTART:20261101T010000
TZOFFSETFROM:-0500
TZOFFSETTO:-0600
END:STANDARD
END:VTIMEZONE
BEGIN:VTIMEZONE
TZID:UTC
BEGIN:STANDARD
DTSTART:20250727T120804
TZOFFSETFROM:+0000
TZOFFSETTO:+0000
END:STANDARD
END:VTIMEZONE
BEGIN:VEVENT
UID:69ea0ba4bade3
DTSTAMP:20260423T120804Z
SUMMARY:AHI: AI for Accountants - Practical Applications
URL:https://arcpa.org/catalog/events/2091618-ahi-ai-for-accountants-practic
 al-applications-2026-28-07
DTSTART;TZID=America/Chicago:20260728T143000
DTEND;TZID=America/Chicago:20260728T161000
END:VEVENT
END:VCALENDAR