BEGIN:VCALENDAR
VERSION:2.0
PRODID:spatie/icalendar-generator
NAME:AHI: Level I - Basic Staff Training
X-WR-CALNAME:AHI: Level I - Basic Staff Training
BEGIN:VTIMEZONE
TZID:America/Chicago
BEGIN:STANDARD
DTSTART:20251102T010000
TZOFFSETFROM:-0500
TZOFFSETTO:-0600
END:STANDARD
BEGIN:DAYLIGHT
DTSTART:20260308T010000
TZOFFSETFROM:-0600
TZOFFSETTO:-0500
END:DAYLIGHT
BEGIN:STANDARD
DTSTART:20261101T010000
TZOFFSETFROM:-0500
TZOFFSETTO:-0600
END:STANDARD
END:VTIMEZONE
BEGIN:VTIMEZONE
TZID:UTC
BEGIN:STANDARD
DTSTART:20250727T143732
TZOFFSETFROM:+0000
TZOFFSETTO:+0000
END:STANDARD
END:VTIMEZONE
BEGIN:VEVENT
UID:69ea2eac36ea0
DTSTAMP:20260423T143732Z
SUMMARY:AHI: Level I - Basic Staff Training
URL:https://arcpa.org/catalog/events/2091605-ahi-level-i-basic-staff-traini
 ng-2026-13-07
DTSTART;TZID=America/Chicago:20260713T090000
DTEND;TZID=America/Chicago:20260716T150000
END:VEVENT
END:VCALENDAR