BEGIN:VCALENDAR
VERSION:2.0
PRODID:spatie/icalendar-generator
NAME:AHI: Level II - Semi-Senior Staff Training
X-WR-CALNAME:AHI: Level II - Semi-Senior Staff Training
BEGIN:VTIMEZONE
TZID:America/Chicago
BEGIN:DAYLIGHT
DTSTART:20260308T010000
TZOFFSETFROM:-0600
TZOFFSETTO:-0500
END:DAYLIGHT
BEGIN:STANDARD
DTSTART:20261101T010000
TZOFFSETFROM:-0500
TZOFFSETTO:-0600
END:STANDARD
BEGIN:DAYLIGHT
DTSTART:20270314T010000
TZOFFSETFROM:-0600
TZOFFSETTO:-0500
END:DAYLIGHT
END:VTIMEZONE
BEGIN:VTIMEZONE
TZID:UTC
BEGIN:STANDARD
DTSTART:20250727T132747
TZOFFSETFROM:+0000
TZOFFSETTO:+0000
END:STANDARD
END:VTIMEZONE
BEGIN:VEVENT
UID:69ea1e533df31
DTSTAMP:20260423T132747Z
SUMMARY:AHI: Level II - Semi-Senior Staff Training
URL:https://arcpa.org/catalog/events/2091604-ahi-level-ii-semi-senior-staff
 -training-2026-21-09
DTSTART;TZID=America/Chicago:20260921T090000
DTEND;TZID=America/Chicago:20260924T150000
END:VEVENT
END:VCALENDAR