BEGIN:VCALENDAR
VERSION:2.0
PRODID:spatie/icalendar-generator
NAME:AHI: Level III - Beginning In-Charge Staff Training
X-WR-CALNAME:AHI: Level III - Beginning In-Charge Staff Training
BEGIN:VTIMEZONE
TZID:America/Chicago
BEGIN:STANDARD
DTSTART:20251102T010000
TZOFFSETFROM:-0500
TZOFFSETTO:-0600
END:STANDARD
BEGIN:DAYLIGHT
DTSTART:20260308T010000
TZOFFSETFROM:-0600
TZOFFSETTO:-0500
END:DAYLIGHT
BEGIN:STANDARD
DTSTART:20261101T010000
TZOFFSETFROM:-0500
TZOFFSETTO:-0600
END:STANDARD
END:VTIMEZONE
BEGIN:VTIMEZONE
TZID:UTC
BEGIN:STANDARD
DTSTART:20250727T144125
TZOFFSETFROM:+0000
TZOFFSETTO:+0000
END:STANDARD
END:VTIMEZONE
BEGIN:VEVENT
UID:69ea2f959113f
DTSTAMP:20260423T144125Z
SUMMARY:AHI: Level III - Beginning In-Charge Staff Training
URL:https://arcpa.org/catalog/events/2091594-ahi-level-iii-beginning-in-cha
 rge-staff-training-2026-18-05
DTSTART;TZID=America/Chicago:20260518T090000
DTEND;TZID=America/Chicago:20260521T150000
END:VEVENT
END:VCALENDAR