BEGIN:VCALENDAR
VERSION:2.0
PRODID:spatie/icalendar-generator
NAME:AHI: Level IV - Management and Leadership Essentials Training
X-WR-CALNAME:AHI: Level IV - Management and Leadership Essentials Training
BEGIN:VTIMEZONE
TZID:America/Chicago
BEGIN:STANDARD
DTSTART:20261101T010000
TZOFFSETFROM:-0500
TZOFFSETTO:-0600
END:STANDARD
BEGIN:DAYLIGHT
DTSTART:20270314T010000
TZOFFSETFROM:-0600
TZOFFSETTO:-0500
END:DAYLIGHT
END:VTIMEZONE
BEGIN:VTIMEZONE
TZID:UTC
BEGIN:STANDARD
DTSTART:20250727T121551
TZOFFSETFROM:+0000
TZOFFSETTO:+0000
END:STANDARD
END:VTIMEZONE
BEGIN:VEVENT
UID:69ea0d77de2f8
DTSTAMP:20260423T121551Z
SUMMARY:AHI: Level IV - Management and Leadership Essentials Training
URL:https://arcpa.org/catalog/events/2091589-ahi-level-iv-management-and-le
 adership-essentials-training-2026-03-12
DTSTART;TZID=America/Chicago:20261203T090000
DTEND;TZID=America/Chicago:20261203T163000
END:VEVENT
END:VCALENDAR