BEGIN:VCALENDAR
VERSION:2.0
PRODID:spatie/icalendar-generator
NAME:AHI: Level III - Beginning In-Charge Staff Training
X-WR-CALNAME:AHI: Level III - Beginning In-Charge Staff Training
BEGIN:VTIMEZONE
TZID:America/Chicago
BEGIN:DAYLIGHT
DTSTART:20260308T010000
TZOFFSETFROM:-0600
TZOFFSETTO:-0500
END:DAYLIGHT
BEGIN:STANDARD
DTSTART:20261101T010000
TZOFFSETFROM:-0500
TZOFFSETTO:-0600
END:STANDARD
BEGIN:DAYLIGHT
DTSTART:20270314T010000
TZOFFSETFROM:-0600
TZOFFSETTO:-0500
END:DAYLIGHT
END:VTIMEZONE
BEGIN:VTIMEZONE
TZID:UTC
BEGIN:STANDARD
DTSTART:20250727T121127
TZOFFSETFROM:+0000
TZOFFSETTO:+0000
END:STANDARD
END:VTIMEZONE
BEGIN:VEVENT
UID:69ea0c6f33ddd
DTSTAMP:20260423T121127Z
SUMMARY:AHI: Level III - Beginning In-Charge Staff Training
URL:https://arcpa.org/catalog/events/2091588-ahi-level-iii-beginning-in-cha
 rge-staff-training-2026-26-10
DTSTART;TZID=America/Chicago:20261026T090000
DTEND;TZID=America/Chicago:20261029T150000
END:VEVENT
END:VCALENDAR