BEGIN:VCALENDAR
VERSION:2.0
PRODID:spatie/icalendar-generator
NAME:AHI: Level V - Advanced Management and Leadership Essentials
X-WR-CALNAME:AHI: Level V - Advanced Management and Leadership Essentials
BEGIN:VTIMEZONE
TZID:America/Chicago
BEGIN:STANDARD
DTSTART:20261101T010000
TZOFFSETFROM:-0500
TZOFFSETTO:-0600
END:STANDARD
BEGIN:DAYLIGHT
DTSTART:20270314T010000
TZOFFSETFROM:-0600
TZOFFSETTO:-0500
END:DAYLIGHT
END:VTIMEZONE
BEGIN:VTIMEZONE
TZID:UTC
BEGIN:STANDARD
DTSTART:20250727T132635
TZOFFSETFROM:+0000
TZOFFSETTO:+0000
END:STANDARD
END:VTIMEZONE
BEGIN:VEVENT
UID:69ea1e0be3119
DTSTAMP:20260423T132635Z
SUMMARY:AHI: Level V - Advanced Management and Leadership Essentials
URL:https://arcpa.org/catalog/events/2091576-ahi-level-v-advanced-managemen
 t-and-leadership-essentials-2026-07-12
DTSTART;TZID=America/Chicago:20261207T090000
DTEND;TZID=America/Chicago:20261210T130000
END:VEVENT
END:VCALENDAR