BEGIN:VCALENDAR
VERSION:2.0
PRODID:spatie/icalendar-generator
NAME:AHI: Level IV - Management and Leadership Essentials Training
X-WR-CALNAME:AHI: Level IV - Management and Leadership Essentials Training
BEGIN:VTIMEZONE
TZID:America/Chicago
BEGIN:STANDARD
DTSTART:20251102T010000
TZOFFSETFROM:-0500
TZOFFSETTO:-0600
END:STANDARD
BEGIN:DAYLIGHT
DTSTART:20260308T010000
TZOFFSETFROM:-0600
TZOFFSETTO:-0500
END:DAYLIGHT
BEGIN:STANDARD
DTSTART:20261101T010000
TZOFFSETFROM:-0500
TZOFFSETTO:-0600
END:STANDARD
END:VTIMEZONE
BEGIN:VTIMEZONE
TZID:UTC
BEGIN:STANDARD
DTSTART:20250727T110231
TZOFFSETFROM:+0000
TZOFFSETTO:+0000
END:STANDARD
END:VTIMEZONE
BEGIN:VEVENT
UID:69e9fc4759b38
DTSTAMP:20260423T110231Z
SUMMARY:AHI: Level IV - Management and Leadership Essentials Training
URL:https://arcpa.org/catalog/events/2091570-ahi-level-iv-management-and-le
 adership-essentials-training-2026-01-06
DTSTART;TZID=America/Chicago:20260601T090000
DTEND;TZID=America/Chicago:20260604T150000
END:VEVENT
END:VCALENDAR