BEGIN:VCALENDAR
VERSION:2.0
PRODID:spatie/icalendar-generator
NAME:AHI: The Mindful-CPA
X-WR-CALNAME:AHI: The Mindful-CPA
BEGIN:VTIMEZONE
TZID:America/Chicago
BEGIN:DAYLIGHT
DTSTART:20260308T010000
TZOFFSETFROM:-0600
TZOFFSETTO:-0500
END:DAYLIGHT
BEGIN:STANDARD
DTSTART:20261101T010000
TZOFFSETFROM:-0500
TZOFFSETTO:-0600
END:STANDARD
BEGIN:DAYLIGHT
DTSTART:20270314T010000
TZOFFSETFROM:-0600
TZOFFSETTO:-0500
END:DAYLIGHT
END:VTIMEZONE
BEGIN:VTIMEZONE
TZID:UTC
BEGIN:STANDARD
DTSTART:20250727T174258
TZOFFSETFROM:+0000
TZOFFSETTO:+0000
END:STANDARD
END:VTIMEZONE
BEGIN:VEVENT
UID:69ea5a22d4236
DTSTAMP:20260423T174258Z
SUMMARY:AHI: The Mindful-CPA
URL:https://arcpa.org/catalog/events/2091559-ahi-the-mindful-cpa-2026-05-11
DTSTART;TZID=America/Chicago:20261105T150000
DTEND;TZID=America/Chicago:20261105T164000
END:VEVENT
END:VCALENDAR