BEGIN:VCALENDAR
VERSION:2.0
PRODID:spatie/icalendar-generator
NAME:ARCPA Virtual Mock CPA Exam –November 6\, 2026
X-WR-CALNAME:ARCPA Virtual Mock CPA Exam –November 6\, 2026
BEGIN:VTIMEZONE
TZID:America/Chicago
BEGIN:DAYLIGHT
DTSTART:20260308T010000
TZOFFSETFROM:-0600
TZOFFSETTO:-0500
END:DAYLIGHT
BEGIN:STANDARD
DTSTART:20261101T010000
TZOFFSETFROM:-0500
TZOFFSETTO:-0600
END:STANDARD
BEGIN:DAYLIGHT
DTSTART:20270314T010000
TZOFFSETFROM:-0600
TZOFFSETTO:-0500
END:DAYLIGHT
END:VTIMEZONE
BEGIN:VTIMEZONE
TZID:UTC
BEGIN:STANDARD
DTSTART:20250726T065842
TZOFFSETFROM:+0000
TZOFFSETTO:+0000
END:STANDARD
END:VTIMEZONE
BEGIN:VEVENT
UID:69e871a26f28b
DTSTAMP:20260422T065842Z
SUMMARY:ARCPA Virtual Mock CPA Exam –November 6\, 2026
URL:https://arcpa.org/catalog/events/1500007-arcpa-virtual-mock-cpa-exam-no
 vember-6-2026-2026-06-11
DTSTART;TZID=America/Chicago:20261106T130000
DTEND;TZID=America/Chicago:20261106T170000
END:VEVENT
END:VCALENDAR