BEGIN:VCALENDAR
VERSION:2.0
PRODID:spatie/icalendar-generator
NAME:ARCPA Virtual Mock CPA Exam –September 17\, 2026
X-WR-CALNAME:ARCPA Virtual Mock CPA Exam –September 17\, 2026
BEGIN:VTIMEZONE
TZID:America/Chicago
BEGIN:DAYLIGHT
DTSTART:20260308T010000
TZOFFSETFROM:-0600
TZOFFSETTO:-0500
END:DAYLIGHT
BEGIN:STANDARD
DTSTART:20261101T010000
TZOFFSETFROM:-0500
TZOFFSETTO:-0600
END:STANDARD
BEGIN:DAYLIGHT
DTSTART:20270314T010000
TZOFFSETFROM:-0600
TZOFFSETTO:-0500
END:DAYLIGHT
END:VTIMEZONE
BEGIN:VTIMEZONE
TZID:UTC
BEGIN:STANDARD
DTSTART:20250726T081933
TZOFFSETFROM:+0000
TZOFFSETTO:+0000
END:STANDARD
END:VTIMEZONE
BEGIN:VEVENT
UID:69e884958b997
DTSTAMP:20260422T081933Z
SUMMARY:ARCPA Virtual Mock CPA Exam –September 17\, 2026
URL:https://arcpa.org/catalog/events/1500004-arcpa-virtual-mock-cpa-exam-se
 ptember-17-2026-2026-17-09
DTSTART;TZID=America/Chicago:20260917T140000
DTEND;TZID=America/Chicago:20260917T180000
END:VEVENT
END:VCALENDAR