BEGIN:VCALENDAR
VERSION:2.0
PRODID:spatie/icalendar-generator
NAME:ARCPA Virtual Mock CPA Exam –June 11\, 2026
X-WR-CALNAME:ARCPA Virtual Mock CPA Exam –June 11\, 2026
BEGIN:VTIMEZONE
TZID:America/Chicago
BEGIN:STANDARD
DTSTART:20251102T010000
TZOFFSETFROM:-0500
TZOFFSETTO:-0600
END:STANDARD
BEGIN:DAYLIGHT
DTSTART:20260308T010000
TZOFFSETFROM:-0600
TZOFFSETTO:-0500
END:DAYLIGHT
BEGIN:STANDARD
DTSTART:20261101T010000
TZOFFSETFROM:-0500
TZOFFSETTO:-0600
END:STANDARD
END:VTIMEZONE
BEGIN:VTIMEZONE
TZID:UTC
BEGIN:STANDARD
DTSTART:20250726T110651
TZOFFSETFROM:+0000
TZOFFSETTO:+0000
END:STANDARD
END:VTIMEZONE
BEGIN:VEVENT
UID:69e8abcb91a2e
DTSTAMP:20260422T110651Z
SUMMARY:ARCPA Virtual Mock CPA Exam –June 11\, 2026
URL:https://arcpa.org/catalog/events/1500001-arcpa-virtual-mock-cpa-exam-ju
 ne-11-2026-2026-11-06
DTSTART;TZID=America/Chicago:20260611T130000
DTEND;TZID=America/Chicago:20260611T170000
END:VEVENT
END:VCALENDAR