BEGIN:VCALENDAR
VERSION:2.0
PRODID:spatie/icalendar-generator
NAME:ARCPA Virtual Mock CPA Exam –March 25\, 2026
X-WR-CALNAME:ARCPA Virtual Mock CPA Exam –March 25\, 2026
BEGIN:VTIMEZONE
TZID:America/Chicago
BEGIN:STANDARD
DTSTART:20251102T010000
TZOFFSETFROM:-0500
TZOFFSETTO:-0600
END:STANDARD
BEGIN:DAYLIGHT
DTSTART:20260308T010000
TZOFFSETFROM:-0600
TZOFFSETTO:-0500
END:DAYLIGHT
END:VTIMEZONE
BEGIN:VTIMEZONE
TZID:UTC
BEGIN:STANDARD
DTSTART:20250726T180017
TZOFFSETFROM:+0000
TZOFFSETTO:+0000
END:STANDARD
END:VTIMEZONE
BEGIN:VEVENT
UID:69e90cb15cbc3
DTSTAMP:20260422T180017Z
SUMMARY:ARCPA Virtual Mock CPA Exam –March 25\, 2026
URL:https://arcpa.org/catalog/events/1499989-arcpa-virtual-mock-cpa-exam-ma
 rch-25-2026-2026-25-03
DTSTART;TZID=America/Chicago:20260325T130000
DTEND;TZID=America/Chicago:20260325T170000
END:VEVENT
END:VCALENDAR