BEGIN:VCALENDAR
VERSION:2.0
PRODID:spatie/icalendar-generator
NAME:ARCPA Virtual Mock CPA Exam –February 17\, 2026
X-WR-CALNAME:ARCPA Virtual Mock CPA Exam –February 17\, 2026
BEGIN:VTIMEZONE
TZID:America/Chicago
BEGIN:STANDARD
DTSTART:20251102T010000
TZOFFSETFROM:-0500
TZOFFSETTO:-0600
END:STANDARD
BEGIN:DAYLIGHT
DTSTART:20260308T010000
TZOFFSETFROM:-0600
TZOFFSETTO:-0500
END:DAYLIGHT
END:VTIMEZONE
BEGIN:VTIMEZONE
TZID:UTC
BEGIN:STANDARD
DTSTART:20250726T083050
TZOFFSETFROM:+0000
TZOFFSETTO:+0000
END:STANDARD
END:VTIMEZONE
BEGIN:VEVENT
UID:69e8873a543a7
DTSTAMP:20260422T083050Z
SUMMARY:ARCPA Virtual Mock CPA Exam –February 17\, 2026
URL:https://arcpa.org/catalog/events/1499728-arcpa-virtual-mock-cpa-exam-fe
 bruary-17-2026-2026-17-02
DTSTART;TZID=America/Chicago:20260217T130000
DTEND;TZID=America/Chicago:20260217T170000
END:VEVENT
END:VCALENDAR