BEGIN:VCALENDAR
VERSION:2.0
PRODID:spatie/icalendar-generator
NAME:Employee Stock Options: What Financial Professionals Should Know When 
 Advising Their Clients (10:20AM-12:00PM)
X-WR-CALNAME:Employee Stock Options: What Financial Professionals Should Kn
 ow When Advising Their Clients (10:20AM-12:00PM)
BEGIN:VTIMEZONE
TZID:America/Chicago
BEGIN:DAYLIGHT
DTSTART:20240310T010000
TZOFFSETFROM:-0600
TZOFFSETTO:-0500
END:DAYLIGHT
BEGIN:STANDARD
DTSTART:20241103T010000
TZOFFSETFROM:-0500
TZOFFSETTO:-0600
END:STANDARD
BEGIN:DAYLIGHT
DTSTART:20250309T010000
TZOFFSETFROM:-0600
TZOFFSETTO:-0500
END:DAYLIGHT
END:VTIMEZONE
BEGIN:VTIMEZONE
TZID:UTC
BEGIN:STANDARD
DTSTART:20250727T175421
TZOFFSETFROM:+0000
TZOFFSETTO:+0000
END:STANDARD
END:VTIMEZONE
BEGIN:VEVENT
UID:69ea5ccd45361
DTSTAMP:20260423T175421Z
SUMMARY:Employee Stock Options: What Financial Professionals Should Know Wh
 en Advising Their Clients (10:20AM-12:00PM)
LOCATION:Zoom\, Arkansas 
URL:https://arcpa.org/catalog/events/108377-employee-stock-options-what-fin
 ancial-professionals-should-know-when-advising-their-clients-1020am-1200pm
 -2024-04-11
DTSTART;TZID=America/Chicago:20241104T102000
DTEND;TZID=America/Chicago:20241104T120000
END:VEVENT
END:VCALENDAR