BEGIN:VCALENDAR
VERSION:2.0
PRODID:spatie/icalendar-generator
NAME:Surgent's Top 10 Tax Topics This Year
X-WR-CALNAME:Surgent's Top 10 Tax Topics This Year
BEGIN:VTIMEZONE
TZID:America/Chicago
BEGIN:STANDARD
DTSTART:20241103T010000
TZOFFSETFROM:-0500
TZOFFSETTO:-0600
END:STANDARD
BEGIN:DAYLIGHT
DTSTART:20250309T010000
TZOFFSETFROM:-0600
TZOFFSETTO:-0500
END:DAYLIGHT
END:VTIMEZONE
BEGIN:VTIMEZONE
TZID:UTC
BEGIN:STANDARD
DTSTART:20250727T173709
TZOFFSETFROM:+0000
TZOFFSETTO:+0000
END:STANDARD
END:VTIMEZONE
BEGIN:VEVENT
UID:69ea58c5ad030
DTSTAMP:20260423T173709Z
SUMMARY:Surgent's Top 10 Tax Topics This Year
LOCATION:Zoom\, Arkansas 
URL:https://arcpa.org/catalog/events/108309-surgents-top-10-tax-topics-this
 -year-2024-18-12
DTSTART;TZID=America/Chicago:20241218T083000
DTEND;TZID=America/Chicago:20241218T160000
END:VEVENT
END:VCALENDAR