BEGIN:VCALENDAR
VERSION:2.0
PRODID:spatie/icalendar-generator
NAME:Important Changes for Your Clients: One Big Beautiful Bill Act
X-WR-CALNAME:Important Changes for Your Clients: One Big Beautiful Bill Act
BEGIN:VTIMEZONE
TZID:America/Chicago
BEGIN:DAYLIGHT
DTSTART:20250309T010000
TZOFFSETFROM:-0600
TZOFFSETTO:-0500
END:DAYLIGHT
BEGIN:STANDARD
DTSTART:20251102T010000
TZOFFSETFROM:-0500
TZOFFSETTO:-0600
END:STANDARD
END:VTIMEZONE
BEGIN:VTIMEZONE
TZID:UTC
BEGIN:STANDARD
DTSTART:20250727T174629
TZOFFSETFROM:+0000
TZOFFSETTO:+0000
END:STANDARD
END:VTIMEZONE
BEGIN:VEVENT
UID:69ea5af5a27d7
DTSTAMP:20260423T174629Z
SUMMARY:Important Changes for Your Clients: One Big Beautiful Bill Act
URL:https://arcpa.org/catalog/events/108280-important-changes-for-your-clie
 nts-one-big-beautiful-bill-act-2025-11-08
DTSTART;TZID=America/Chicago:20250811T133000
DTEND;TZID=America/Chicago:20250811T170000
END:VEVENT
END:VCALENDAR