BEGIN:VCALENDAR
VERSION:2.0
PRODID:spatie/icalendar-generator
NAME:Taxation of Property Transactions (12:30PM-4:00PM)
X-WR-CALNAME:Taxation of Property Transactions (12:30PM-4:00PM)
BEGIN:VTIMEZONE
TZID:America/Chicago
BEGIN:STANDARD
DTSTART:20241103T010000
TZOFFSETFROM:-0500
TZOFFSETTO:-0600
END:STANDARD
BEGIN:DAYLIGHT
DTSTART:20250309T010000
TZOFFSETFROM:-0600
TZOFFSETTO:-0500
END:DAYLIGHT
END:VTIMEZONE
BEGIN:VTIMEZONE
TZID:UTC
BEGIN:STANDARD
DTSTART:20250727T145040
TZOFFSETFROM:+0000
TZOFFSETTO:+0000
END:STANDARD
END:VTIMEZONE
BEGIN:VEVENT
UID:69ea31c0eef7c
DTSTAMP:20260423T145040Z
SUMMARY:Taxation of Property Transactions (12:30PM-4:00PM)
LOCATION:Zoom\, Arkansas 
URL:https://arcpa.org/catalog/events/108197-taxation-of-property-transactio
 ns-1230pm-400pm-2024-19-12
DTSTART;TZID=America/Chicago:20241219T123000
DTEND;TZID=America/Chicago:20241219T160000
END:VEVENT
END:VCALENDAR