BEGIN:VCALENDAR
VERSION:2.0
PRODID:spatie/icalendar-generator
NAME:Tax Planning for Small Businesses (8:30AM-12:00PM)
X-WR-CALNAME:Tax Planning for Small Businesses (8:30AM-12:00PM)
BEGIN:VTIMEZONE
TZID:America/Chicago
BEGIN:STANDARD
DTSTART:20241103T010000
TZOFFSETFROM:-0500
TZOFFSETTO:-0600
END:STANDARD
BEGIN:DAYLIGHT
DTSTART:20250309T010000
TZOFFSETFROM:-0600
TZOFFSETTO:-0500
END:DAYLIGHT
END:VTIMEZONE
BEGIN:VTIMEZONE
TZID:UTC
BEGIN:STANDARD
DTSTART:20250727T132937
TZOFFSETFROM:+0000
TZOFFSETTO:+0000
END:STANDARD
END:VTIMEZONE
BEGIN:VEVENT
UID:69ea1ec14448c
DTSTAMP:20260423T132937Z
SUMMARY:Tax Planning for Small Businesses (8:30AM-12:00PM)
LOCATION:Zoom\, Arkansas 
URL:https://arcpa.org/catalog/events/108189-tax-planning-for-small-business
 es-830am-1200pm-2024-19-12
DTSTART;TZID=America/Chicago:20241219T083000
DTEND;TZID=America/Chicago:20241219T120000
END:VEVENT
END:VCALENDAR