BEGIN:VCALENDAR
VERSION:2.0
PRODID:spatie/icalendar-generator
NAME:Tax Planning for Small Businesses
X-WR-CALNAME:Tax Planning for Small Businesses
BEGIN:VTIMEZONE
TZID:America/Chicago
BEGIN:STANDARD
DTSTART:20231105T010000
TZOFFSETFROM:-0500
TZOFFSETTO:-0600
END:STANDARD
BEGIN:DAYLIGHT
DTSTART:20240310T010000
TZOFFSETFROM:-0600
TZOFFSETTO:-0500
END:DAYLIGHT
END:VTIMEZONE
BEGIN:VTIMEZONE
TZID:UTC
BEGIN:STANDARD
DTSTART:20250727T132845
TZOFFSETFROM:+0000
TZOFFSETTO:+0000
END:STANDARD
END:VTIMEZONE
BEGIN:VEVENT
UID:69ea1e8da1411
DTSTAMP:20260423T132845Z
SUMMARY:Tax Planning for Small Businesses
LOCATION:Zoom\, Arkansas 
URL:https://arcpa.org/catalog/events/108188-tax-planning-for-small-business
 es-2023-12-12
DTSTART;TZID=America/Chicago:20231212T083000
DTEND;TZID=America/Chicago:20231212T120000
END:VEVENT
END:VCALENDAR