BEGIN:VCALENDAR
VERSION:2.0
PRODID:spatie/icalendar-generator
NAME:S Corporations: Key Issues\, Compliance\, and Tax Strategies
X-WR-CALNAME:S Corporations: Key Issues\, Compliance\, and Tax Strategies
BEGIN:VTIMEZONE
TZID:America/Chicago
BEGIN:DAYLIGHT
DTSTART:20240310T010000
TZOFFSETFROM:-0600
TZOFFSETTO:-0500
END:DAYLIGHT
BEGIN:STANDARD
DTSTART:20241103T010000
TZOFFSETFROM:-0500
TZOFFSETTO:-0600
END:STANDARD
BEGIN:DAYLIGHT
DTSTART:20250309T010000
TZOFFSETFROM:-0600
TZOFFSETTO:-0500
END:DAYLIGHT
END:VTIMEZONE
BEGIN:VTIMEZONE
TZID:UTC
BEGIN:STANDARD
DTSTART:20250727T120918
TZOFFSETFROM:+0000
TZOFFSETTO:+0000
END:STANDARD
END:VTIMEZONE
BEGIN:VEVENT
UID:69ea0beeac31a
DTSTAMP:20260423T120918Z
SUMMARY:S Corporations: Key Issues\, Compliance\, and Tax Strategies
LOCATION:Zoom\, Arkansas 
URL:https://arcpa.org/catalog/events/108153-s-corporations-key-issues-compl
 iance-and-tax-strategies-2024-04-11
DTSTART;TZID=America/Chicago:20241104T083000
DTEND;TZID=America/Chicago:20241104T160000
END:VEVENT
END:VCALENDAR