BEGIN:VCALENDAR
VERSION:2.0
PRODID:spatie/icalendar-generator
NAME:Multistate Income Tax
X-WR-CALNAME:Multistate Income Tax
BEGIN:VTIMEZONE
TZID:America/Chicago
BEGIN:STANDARD
DTSTART:20231105T010000
TZOFFSETFROM:-0500
TZOFFSETTO:-0600
END:STANDARD
BEGIN:DAYLIGHT
DTSTART:20240310T010000
TZOFFSETFROM:-0600
TZOFFSETTO:-0500
END:DAYLIGHT
END:VTIMEZONE
BEGIN:VTIMEZONE
TZID:UTC
BEGIN:STANDARD
DTSTART:20250727T163508
TZOFFSETFROM:+0000
TZOFFSETTO:+0000
END:STANDARD
END:VTIMEZONE
BEGIN:VEVENT
UID:69ea4a3c01fe3
DTSTAMP:20260423T163508Z
SUMMARY:Multistate Income Tax
LOCATION:Zoom\, Arkansas 
URL:https://arcpa.org/catalog/events/108145-multistate-income-tax-2023-14-1
 2
DTSTART;TZID=America/Chicago:20231214T083000
DTEND;TZID=America/Chicago:20231214T160000
END:VEVENT
END:VCALENDAR