BEGIN:VCALENDAR
VERSION:2.0
PRODID:spatie/icalendar-generator
NAME:Individual Tax Fundamentals - Tax Staff Essentials
X-WR-CALNAME:Individual Tax Fundamentals - Tax Staff Essentials
BEGIN:VTIMEZONE
TZID:America/Chicago
BEGIN:STANDARD
DTSTART:20241103T010000
TZOFFSETFROM:-0500
TZOFFSETTO:-0600
END:STANDARD
BEGIN:DAYLIGHT
DTSTART:20250309T010000
TZOFFSETFROM:-0600
TZOFFSETTO:-0500
END:DAYLIGHT
BEGIN:STANDARD
DTSTART:20251102T010000
TZOFFSETFROM:-0500
TZOFFSETTO:-0600
END:STANDARD
END:VTIMEZONE
BEGIN:VTIMEZONE
TZID:UTC
BEGIN:STANDARD
DTSTART:20250727T120856
TZOFFSETFROM:+0000
TZOFFSETTO:+0000
END:STANDARD
END:VTIMEZONE
BEGIN:VEVENT
UID:69ea0bd85381e
DTSTAMP:20260423T120856Z
SUMMARY:Individual Tax Fundamentals - Tax Staff Essentials
LOCATION:Zoom\, Arkansas 
URL:https://arcpa.org/catalog/events/108141-individual-tax-fundamentals-tax
 -staff-essentials-2025-16-07
DTSTART;TZID=America/Chicago:20250716T083000
DTEND;TZID=America/Chicago:20250716T160000
END:VEVENT
END:VCALENDAR