BEGIN:VCALENDAR
VERSION:2.0
PRODID:spatie/icalendar-generator
NAME:Intermediate Individual Taxation
X-WR-CALNAME:Intermediate Individual Taxation
BEGIN:VTIMEZONE
TZID:America/Chicago
BEGIN:DAYLIGHT
DTSTART:20240310T010000
TZOFFSETFROM:-0600
TZOFFSETTO:-0500
END:DAYLIGHT
BEGIN:STANDARD
DTSTART:20241103T010000
TZOFFSETFROM:-0500
TZOFFSETTO:-0600
END:STANDARD
BEGIN:DAYLIGHT
DTSTART:20250309T010000
TZOFFSETFROM:-0600
TZOFFSETTO:-0500
END:DAYLIGHT
END:VTIMEZONE
BEGIN:VTIMEZONE
TZID:UTC
BEGIN:STANDARD
DTSTART:20250727T110119
TZOFFSETFROM:+0000
TZOFFSETTO:+0000
END:STANDARD
END:VTIMEZONE
BEGIN:VEVENT
UID:69e9fbffcd549
DTSTAMP:20260423T110119Z
SUMMARY:Intermediate Individual Taxation
URL:https://arcpa.org/catalog/events/108129-intermediate-individual-taxatio
 n-2024-14-11
DTSTART;TZID=America/Chicago:20241114T083000
DTEND;TZID=America/Chicago:20241114T163000
END:VEVENT
END:VCALENDAR