BEGIN:VCALENDAR
VERSION:2.0
PRODID:spatie/icalendar-generator
NAME:Estate & Trust Primer (VIRTUAL)
X-WR-CALNAME:Estate & Trust Primer (VIRTUAL)
BEGIN:VTIMEZONE
TZID:America/Chicago
BEGIN:DAYLIGHT
DTSTART:20230312T010000
TZOFFSETFROM:-0600
TZOFFSETTO:-0500
END:DAYLIGHT
BEGIN:STANDARD
DTSTART:20231105T010000
TZOFFSETFROM:-0500
TZOFFSETTO:-0600
END:STANDARD
BEGIN:DAYLIGHT
DTSTART:20240310T010000
TZOFFSETFROM:-0600
TZOFFSETTO:-0500
END:DAYLIGHT
END:VTIMEZONE
BEGIN:VTIMEZONE
TZID:UTC
BEGIN:STANDARD
DTSTART:20250727T121026
TZOFFSETFROM:+0000
TZOFFSETTO:+0000
END:STANDARD
END:VTIMEZONE
BEGIN:VEVENT
UID:69ea0c326d514
DTSTAMP:20260423T121026Z
SUMMARY:Estate & Trust Primer (VIRTUAL)
LOCATION:Zoom\, Arkansas 
URL:https://arcpa.org/catalog/events/108126-estate-trust-primer-virtual-202
 3-04-12
DTSTART;TZID=America/Chicago:20231204T083000
DTEND;TZID=America/Chicago:20231204T120000
END:VEVENT
END:VCALENDAR