BEGIN:VCALENDAR
VERSION:2.0
PRODID:spatie/icalendar-generator
NAME:Estate & Trust Primer (IN-PERSON)
X-WR-CALNAME:Estate & Trust Primer (IN-PERSON)
BEGIN:VTIMEZONE
TZID:America/Chicago
BEGIN:DAYLIGHT
DTSTART:20230312T010000
TZOFFSETFROM:-0600
TZOFFSETTO:-0500
END:DAYLIGHT
BEGIN:STANDARD
DTSTART:20231105T010000
TZOFFSETFROM:-0500
TZOFFSETTO:-0600
END:STANDARD
BEGIN:DAYLIGHT
DTSTART:20240310T010000
TZOFFSETFROM:-0600
TZOFFSETTO:-0500
END:DAYLIGHT
END:VTIMEZONE
BEGIN:VTIMEZONE
TZID:UTC
BEGIN:STANDARD
DTSTART:20250727T144125
TZOFFSETFROM:+0000
TZOFFSETTO:+0000
END:STANDARD
END:VTIMEZONE
BEGIN:VEVENT
UID:69ea2f9590fe4
DTSTAMP:20260423T144125Z
SUMMARY:Estate & Trust Primer (IN-PERSON)
LOCATION: 
URL:https://arcpa.org/catalog/events/108122-estate-trust-primer-in-person-2
 023-04-12
DTSTART;TZID=America/Chicago:20231204T083000
DTEND;TZID=America/Chicago:20231204T120000
END:VEVENT
END:VCALENDAR