BEGIN:VCALENDAR
VERSION:2.0
PRODID:spatie/icalendar-generator
NAME:Choice and Formation of Entity
X-WR-CALNAME:Choice and Formation of Entity
BEGIN:VTIMEZONE
TZID:America/Chicago
BEGIN:STANDARD
DTSTART:20231105T010000
TZOFFSETFROM:-0500
TZOFFSETTO:-0600
END:STANDARD
BEGIN:DAYLIGHT
DTSTART:20240310T010000
TZOFFSETFROM:-0600
TZOFFSETTO:-0500
END:DAYLIGHT
END:VTIMEZONE
BEGIN:VTIMEZONE
TZID:UTC
BEGIN:STANDARD
DTSTART:20250727T143541
TZOFFSETFROM:+0000
TZOFFSETTO:+0000
END:STANDARD
END:VTIMEZONE
BEGIN:VEVENT
UID:69ea2e3d53846
DTSTAMP:20260423T143541Z
SUMMARY:Choice and Formation of Entity
LOCATION:Zoom\, Arkansas 
URL:https://arcpa.org/catalog/events/108098-choice-and-formation-of-entity-
 2023-18-12
DTSTART;TZID=America/Chicago:20231218T083000
DTEND;TZID=America/Chicago:20231218T120000
END:VEVENT
END:VCALENDAR