BEGIN:VCALENDAR
VERSION:2.0
PRODID:spatie/icalendar-generator
NAME:Advanced Tax Planning S Corporations
X-WR-CALNAME:Advanced Tax Planning S Corporations
BEGIN:VTIMEZONE
TZID:America/Chicago
BEGIN:STANDARD
DTSTART:20231105T010000
TZOFFSETFROM:-0500
TZOFFSETTO:-0600
END:STANDARD
BEGIN:DAYLIGHT
DTSTART:20240310T010000
TZOFFSETFROM:-0600
TZOFFSETTO:-0500
END:DAYLIGHT
END:VTIMEZONE
BEGIN:VTIMEZONE
TZID:UTC
BEGIN:STANDARD
DTSTART:20250727T173917
TZOFFSETFROM:+0000
TZOFFSETTO:+0000
END:STANDARD
END:VTIMEZONE
BEGIN:VEVENT
UID:69ea59459a7fb
DTSTAMP:20260423T173917Z
SUMMARY:Advanced Tax Planning S Corporations
LOCATION:Zoom\, Arkansas 
URL:https://arcpa.org/catalog/events/108091-advanced-tax-planning-s-corpora
 tions-2023-15-12
DTSTART;TZID=America/Chicago:20231215T083000
DTEND;TZID=America/Chicago:20231215T160000
END:VEVENT
END:VCALENDAR