BEGIN:VCALENDAR
VERSION:2.0
PRODID:spatie/icalendar-generator
NAME:Advanced Taxation LLCs & Partnerships
X-WR-CALNAME:Advanced Taxation LLCs & Partnerships
BEGIN:VTIMEZONE
TZID:America/Chicago
BEGIN:STANDARD
DTSTART:20231105T010000
TZOFFSETFROM:-0500
TZOFFSETTO:-0600
END:STANDARD
BEGIN:DAYLIGHT
DTSTART:20240310T010000
TZOFFSETFROM:-0600
TZOFFSETTO:-0500
END:DAYLIGHT
END:VTIMEZONE
BEGIN:VTIMEZONE
TZID:UTC
BEGIN:STANDARD
DTSTART:20250727T192029
TZOFFSETFROM:+0000
TZOFFSETTO:+0000
END:STANDARD
END:VTIMEZONE
BEGIN:VEVENT
UID:69ea70fdec0bd
DTSTAMP:20260423T192029Z
SUMMARY:Advanced Taxation LLCs & Partnerships
LOCATION:Zoom\, Arkansas 
URL:https://arcpa.org/catalog/events/108078-advanced-taxation-llcs-partners
 hips-2023-13-12
DTSTART;TZID=America/Chicago:20231213T083000
DTEND;TZID=America/Chicago:20231213T160000
END:VEVENT
END:VCALENDAR