BEGIN:VCALENDAR
VERSION:2.0
PRODID:spatie/icalendar-generator
NAME:Advanced Trust Issues: A Roadmap for Success in An Increasingly Comple
 x Area (12:30PM-4:00PM)
X-WR-CALNAME:Advanced Trust Issues: A Roadmap for Success in An Increasingl
 y Complex Area (12:30PM-4:00PM)
BEGIN:VTIMEZONE
TZID:America/Chicago
BEGIN:STANDARD
DTSTART:20231105T010000
TZOFFSETFROM:-0500
TZOFFSETTO:-0600
END:STANDARD
BEGIN:DAYLIGHT
DTSTART:20240310T010000
TZOFFSETFROM:-0600
TZOFFSETTO:-0500
END:DAYLIGHT
BEGIN:STANDARD
DTSTART:20241103T010000
TZOFFSETFROM:-0500
TZOFFSETTO:-0600
END:STANDARD
END:VTIMEZONE
BEGIN:VTIMEZONE
TZID:UTC
BEGIN:STANDARD
DTSTART:20250727T121256
TZOFFSETFROM:+0000
TZOFFSETTO:+0000
END:STANDARD
END:VTIMEZONE
BEGIN:VEVENT
UID:69ea0cc863d0d
DTSTAMP:20260423T121256Z
SUMMARY:Advanced Trust Issues: A Roadmap for Success in An Increasingly Com
 plex Area (12:30PM-4:00PM)
LOCATION:Zoom\, Arkansas 
URL:https://arcpa.org/catalog/events/108064-advanced-trust-issues-a-roadmap
 -for-success-in-an-increasingly-complex-area-1230pm-400pm-2024-19-07
DTSTART;TZID=America/Chicago:20240719T123000
DTEND;TZID=America/Chicago:20240719T160000
END:VEVENT
END:VCALENDAR