BEGIN:VCALENDAR
VERSION:2.0
PRODID:spatie/icalendar-generator
NAME:ARCPA Top Golf Networking Event
X-WR-CALNAME:ARCPA Top Golf Networking Event
BEGIN:VTIMEZONE
TZID:America/Chicago
BEGIN:DAYLIGHT
DTSTART:20240310T010000
TZOFFSETFROM:-0600
TZOFFSETTO:-0500
END:DAYLIGHT
BEGIN:STANDARD
DTSTART:20241103T010000
TZOFFSETFROM:-0500
TZOFFSETTO:-0600
END:STANDARD
BEGIN:DAYLIGHT
DTSTART:20250309T010000
TZOFFSETFROM:-0600
TZOFFSETTO:-0500
END:DAYLIGHT
END:VTIMEZONE
BEGIN:VTIMEZONE
TZID:UTC
BEGIN:STANDARD
DTSTART:20250727T145152
TZOFFSETFROM:+0000
TZOFFSETTO:+0000
END:STANDARD
END:VTIMEZONE
BEGIN:VEVENT
UID:69ea32085dc34
DTSTAMP:20260423T145152Z
SUMMARY:ARCPA Top Golf Networking Event
URL:https://arcpa.org/catalog/events/108051-arcpa-top-golf-networking-event
 -2024-21-10
DTSTART;TZID=America/Chicago:20241021T170000
DTEND;TZID=America/Chicago:20241021T190000
END:VEVENT
END:VCALENDAR