BEGIN:VCALENDAR
VERSION:2.0
PRODID:spatie/icalendar-generator
NAME:Surgent's Essential Depreciation and Expensing Update (8:30AM-12:00PM)
X-WR-CALNAME:Surgent's Essential Depreciation and Expensing Update (8:30AM-
 12:00PM)
BEGIN:VTIMEZONE
TZID:America/Chicago
BEGIN:STANDARD
DTSTART:20241103T010000
TZOFFSETFROM:-0500
TZOFFSETTO:-0600
END:STANDARD
BEGIN:DAYLIGHT
DTSTART:20250309T010000
TZOFFSETFROM:-0600
TZOFFSETTO:-0500
END:DAYLIGHT
END:VTIMEZONE
BEGIN:VTIMEZONE
TZID:UTC
BEGIN:STANDARD
DTSTART:20250727T121435
TZOFFSETFROM:+0000
TZOFFSETTO:+0000
END:STANDARD
END:VTIMEZONE
BEGIN:VEVENT
UID:69ea0d2b59fa1
DTSTAMP:20260423T121435Z
SUMMARY:Surgent's Essential Depreciation and Expensing Update (8:30AM-12:00
 PM)
LOCATION:Zoom\, Arkansas 
URL:https://arcpa.org/catalog/events/108001-surgents-essential-depreciation
 -and-expensing-update-830am-1200pm-2024-16-12
DTSTART;TZID=America/Chicago:20241216T083000
DTEND;TZID=America/Chicago:20241216T120000
END:VEVENT
END:VCALENDAR