BEGIN:VCALENDAR
VERSION:2.0
PRODID:spatie/icalendar-generator
NAME:Surgent's Depreciation and Expensing Update
X-WR-CALNAME:Surgent's Depreciation and Expensing Update
BEGIN:VTIMEZONE
TZID:America/Chicago
BEGIN:DAYLIGHT
DTSTART:20230312T010000
TZOFFSETFROM:-0600
TZOFFSETTO:-0500
END:DAYLIGHT
BEGIN:STANDARD
DTSTART:20231105T010000
TZOFFSETFROM:-0500
TZOFFSETTO:-0600
END:STANDARD
BEGIN:DAYLIGHT
DTSTART:20240310T010000
TZOFFSETFROM:-0600
TZOFFSETTO:-0500
END:DAYLIGHT
END:VTIMEZONE
BEGIN:VTIMEZONE
TZID:UTC
BEGIN:STANDARD
DTSTART:20250727T133137
TZOFFSETFROM:+0000
TZOFFSETTO:+0000
END:STANDARD
END:VTIMEZONE
BEGIN:VEVENT
UID:69ea1f394c6d2
DTSTAMP:20260423T133137Z
SUMMARY:Surgent's Depreciation and Expensing Update
LOCATION:Zoom\, Arkansas 
URL:https://arcpa.org/catalog/events/107998-surgents-depreciation-and-expen
 sing-update-2023-03-11
DTSTART;TZID=America/Chicago:20231103T123000
DTEND;TZID=America/Chicago:20231103T160000
END:VEVENT
END:VCALENDAR