BEGIN:VCALENDAR
VERSION:2.0
PRODID:spatie/icalendar-generator
NAME:Surgent's Perplexing Financial and Economic Issues for the CFO/Control
 ler
X-WR-CALNAME:Surgent's Perplexing Financial and Economic Issues for the CFO
 /Controller
BEGIN:VTIMEZONE
TZID:America/Chicago
BEGIN:STANDARD
DTSTART:20231105T010000
TZOFFSETFROM:-0500
TZOFFSETTO:-0600
END:STANDARD
BEGIN:DAYLIGHT
DTSTART:20240310T010000
TZOFFSETFROM:-0600
TZOFFSETTO:-0500
END:DAYLIGHT
END:VTIMEZONE
BEGIN:VTIMEZONE
TZID:UTC
BEGIN:STANDARD
DTSTART:20250727T164355
TZOFFSETFROM:+0000
TZOFFSETTO:+0000
END:STANDARD
END:VTIMEZONE
BEGIN:VEVENT
UID:69ea4c4ba4669
DTSTAMP:20260423T164355Z
SUMMARY:Surgent's Perplexing Financial and Economic Issues for the CFO/Cont
 roller
URL:https://arcpa.org/catalog/events/107573-surgents-perplexing-financial-a
 nd-economic-issues-for-the-cfocontroller-2024-22-04
DTSTART;TZID=America/Chicago:20240422T080000
DTEND;TZID=America/Chicago:20240422T160000
END:VEVENT
END:VCALENDAR