BEGIN:VCALENDAR
VERSION:2.0
PRODID:spatie/icalendar-generator
NAME:Surgent's Controller/CFO Update: Hot Topics Facing Today's Financial P
 rofessional
X-WR-CALNAME:Surgent's Controller/CFO Update: Hot Topics Facing Today's Fin
 ancial Professional
BEGIN:VTIMEZONE
TZID:America/Chicago
BEGIN:STANDARD
DTSTART:20231105T010000
TZOFFSETFROM:-0500
TZOFFSETTO:-0600
END:STANDARD
BEGIN:DAYLIGHT
DTSTART:20240310T010000
TZOFFSETFROM:-0600
TZOFFSETTO:-0500
END:DAYLIGHT
END:VTIMEZONE
BEGIN:VTIMEZONE
TZID:UTC
BEGIN:STANDARD
DTSTART:20250727T144411
TZOFFSETFROM:+0000
TZOFFSETTO:+0000
END:STANDARD
END:VTIMEZONE
BEGIN:VEVENT
UID:69ea303bd49e3
DTSTAMP:20260423T144411Z
SUMMARY:Surgent's Controller/CFO Update: Hot Topics Facing Today's Financia
 l Professional
URL:https://arcpa.org/catalog/events/107506-surgents-controllercfo-update-h
 ot-topics-facing-todays-financial-professional-2024-17-04
DTSTART;TZID=America/Chicago:20240417T123000
DTEND;TZID=America/Chicago:20240417T160000
END:VEVENT
END:VCALENDAR