BEGIN:VCALENDAR
VERSION:2.0
PRODID:spatie/icalendar-generator
NAME:How SAS Nos. 134-145 Improve Risk-Based Audits
X-WR-CALNAME:How SAS Nos. 134-145 Improve Risk-Based Audits
BEGIN:VTIMEZONE
TZID:America/Chicago
BEGIN:STANDARD
DTSTART:20251102T010000
TZOFFSETFROM:-0500
TZOFFSETTO:-0600
END:STANDARD
BEGIN:DAYLIGHT
DTSTART:20260308T010000
TZOFFSETFROM:-0600
TZOFFSETTO:-0500
END:DAYLIGHT
END:VTIMEZONE
BEGIN:VTIMEZONE
TZID:UTC
BEGIN:STANDARD
DTSTART:20250726T190242
TZOFFSETFROM:+0000
TZOFFSETTO:+0000
END:STANDARD
END:VTIMEZONE
BEGIN:VEVENT
UID:69e91b52b364f
DTSTAMP:20260422T190242Z
SUMMARY:How SAS Nos. 134-145 Improve Risk-Based Audits
URL:https://arcpa.org/catalog/events/90405-how-sas-nos-134-145-improve-risk
 -based-audits-2026-03-02
DTSTART;TZID=America/Chicago:20260203T080000
DTEND;TZID=America/Chicago:20260203T120000
END:VEVENT
END:VCALENDAR