BEGIN:VCALENDAR
VERSION:2.0
PRODID:spatie/icalendar-generator
NAME:Mastering the Excel Lookup Functions
X-WR-CALNAME:Mastering the Excel Lookup Functions
BEGIN:VTIMEZONE
TZID:America/Chicago
BEGIN:STANDARD
DTSTART:20251102T010000
TZOFFSETFROM:-0500
TZOFFSETTO:-0600
END:STANDARD
BEGIN:DAYLIGHT
DTSTART:20260308T010000
TZOFFSETFROM:-0600
TZOFFSETTO:-0500
END:DAYLIGHT
END:VTIMEZONE
BEGIN:VTIMEZONE
TZID:UTC
BEGIN:STANDARD
DTSTART:20250726T190318
TZOFFSETFROM:+0000
TZOFFSETTO:+0000
END:STANDARD
END:VTIMEZONE
BEGIN:VEVENT
UID:69e91b767da90
DTSTAMP:20260422T190318Z
SUMMARY:Mastering the Excel Lookup Functions
URL:https://arcpa.org/catalog/events/90258-mastering-the-excel-lookup-funct
 ions-2026-02-02
DTSTART;TZID=America/Chicago:20260202T140000
DTEND;TZID=America/Chicago:20260202T160000
END:VEVENT
END:VCALENDAR